BEGIN:VCALENDAR
VERSION:2.0
PRODID:gruene-rh.de
METHOD:PUBLISH
BEGIN:VTIMEZONE
TZID:Europe/Berlin
X-LIC-LOCATION:Europe/Berlin
BEGIN:DAYLIGHT
TZOFFSETFROM:+0100
TZOFFSETTO:+0200
TZNAME:CEST
DTSTART:19700329T020000
RRULE:FREQ=YEARLY;INTERVAL=1;BYDAY=-1SU;BYMONTH=3
END:DAYLIGHT
BEGIN:STANDARD
TZOFFSETFROM:+0200
TZOFFSETTO:+0100
TZNAME:CET
DTSTART:19701025T030000
RRULE:FREQ=YEARLY;INTERVAL=1;BYDAY=-1SU;BYMONTH=10
END:STANDARD
END:VTIMEZONE
BEGIN:VEVENT
UID:2c3288a099d9e1ad929d06bd68264a67@gruene-rh.de
URL;VALUE=URI:https://gruene-rh.de/termine/landesdelegiertenversammlung-3
 /
LOCATION:Idar-Oberstein
SUMMARY:Landesdelegiertenversammlung
DESCRIPTION;ALTREP="data:text/html,%0A%3Cp%3E%3C%2Fp%3E%0A%0A%0A%0A%3Cp%3
 E%3C%2Fp%3E%0A%0A%0A%0A%3Cp%3E%3C%2Fp%3E%0A":
CLASS:PUBLIC
DTSTART;TZID=Europe/Berlin:20260509
DTEND;TZID=Europe/Berlin:20260510
DTSTAMP:20260420T014831
END:VEVENT
BEGIN:VEVENT
UID:fda2e053aeb1ae41b5723345e905eecb@gruene-rh.de
URL;VALUE=URI:https://gruene-rh.de/termine/bundesdelegiertenkonferenz-4/
LOCATION:Berlin
SUMMARY:Bundesdelegiertenkonferenz
DESCRIPTION;ALTREP="data:text/html,":
CLASS:PUBLIC
DTSTART;TZID=Europe/Berlin:20261204
DTEND;TZID=Europe/Berlin:20261207
DTSTAMP:20260420T014831
END:VEVENT
END:VCALENDAR